BEGIN:VCALENDAR
VERSION:2.0
PRODID:-//Sabre//Sabre VObject 4.5.7//EN
CALSCALE:GREGORIAN
BEGIN:VEVENT
UID:sabre-vobject-af32d1f2-e33c-40d8-aac2-f73d36b4f623
DTSTAMP:20260424T160850Z
SUMMARY:"Singvögel und Raben waren auch nicht mehr da" - Lesung mit Musik 
 - Shigemi Ideguchi & Fabian Liedtke 
DESCRIPTION:&quot\;Singv&ouml\;gel und Raben waren auch nicht mehr da&quot\
 ; - Lesung mit Musik - Shigemi Ideguchi &amp\; Fabian Liedtke. Die Referen
 ten lesen aus diesem Buch. Es ist ein Bericht aus dem Zentrum der Atombomb
 enexplosion in Japan. Begleitet wird die Lesung von Posaunenmusik.&nbsp\;\
 n
X-ALT-DESC:FMTTYPE=text/html:<!DOCTYPE HTML PUBLIC "-//W3C//DTD HTML 3.2//E
 N"><HTML><p>&quot\;Singv&ouml\;gel und Raben waren auch nicht mehr da&quot
 \; - Lesung mit Musik - Shigemi Ideguchi &amp\; Fabian Liedtke. Die Refere
 nten lesen aus diesem Buch. Es ist ein Bericht aus dem Zentrum der Atombom
 benexplosion in Japan. Begleitet wird die Lesung von Posaunenmusik.&nbsp\;
 </p>\n</HTML>
CREATED;TZID=Europe/Berlin:20260411T173623
URL;VALUE=URI:https://www.djg-oldenburg.de/veranstaltungen/singvoegel-und-r
 aben-waren-auch-nicht-mehr-da-lesung-mit-musik-shigemi-ideguchi-und-fabian
 -liedtke
DTSTART;TZID=Europe/Berlin:20260919T160000
DTEND;TZID=Europe/Berlin:20260919T180000
SEQUENCE:0
END:VEVENT
END:VCALENDAR
